BEGIN:VCALENDAR
VERSION:2.0
PRODID:-//A Re Sebetseng - ECPv4.6.19//NONSGML v1.0//EN
CALSCALE:GREGORIAN
METHOD:PUBLISH
X-WR-CALNAME:A Re Sebetseng
X-ORIGINAL-URL:https://aresebetseng.co.za
X-WR-CALDESC:Events for A Re Sebetseng
BEGIN:VEVENT
DTSTART;TZID=UTC+0:20180421T080000
DTEND;TZID=UTC+0:20180421T093000
DTSTAMP:20260419T173204
CREATED:20180406T122943Z
LAST-MODIFIED:20180414T160740Z
UID:1081-1524297600-1524303000@aresebetseng.co.za
SUMMARY:Yeoville
DESCRIPTION:  \n
URL:https://aresebetseng.co.za/event/yeoville/
LOCATION:7 Jula Street\, Braamfontein\, Johannesburg\, Gauteng\, 2001\, South Africa
CATEGORIES:Cleaning Calendar
ATTACH;FMTTYPE=image/png:https://aresebetseng.co.za/wp-content/uploads/2018/04/Yeoville-cleaning-two.png
ORGANIZER;CN="A%20Re%20Sebetseng":MAILTO:info@aresebtseng.co.za
END:VEVENT
END:VCALENDAR